BEGIN:VCALENDAR
VERSION:2.0
PRODID:-//AMSE//Event Calendar//FR
CALSCALE:GREGORIAN
METHOD:PUBLISH
BEGIN:VEVENT
UID:event-10305@www.amse-aixmarseille.fr
DTSTAMP:20260421T224610Z
CREATED:20260421T224610Z
LAST-MODIFIED:20260421T224610Z
STATUS:CONFIRMED
SEQUENCE:0
SUMMARY:Eco-lunch - Cecilia Garcia-Peñalosa
DTSTART:20231207T113000Z
DTEND:20231207T123000Z
DESCRIPTION:\\n\\nContact: Nathalie Ferrière : nathalie.ferriere[at]scien
 cespo-aix.frFederico Trionfetti : federico.trionfetti[at]univ-amu.fr\n\nPl
 us d'informations: https://www.amse-aixmarseille.fr/fr/evenements/cecilia-g
 arcia-pe%C3%B1alosa-7
LOCATION:MEGA - Salle Carine Nourry\, 424\, Chemin du Viaduc\, 13080 Aix-en
 -Provence
URL;VALUE=URI:https://www.amse-aixmarseille.fr/fr/evenements/cecilia-garcia-pe%C3%B1alosa-7
CONTACT:Nathalie Ferrière :&nbsp\;nathalie.ferriere[at]sciencespo-aix.frFe
 derico Trionfetti :&nbsp\;federico.trionfetti[at]univ-amu.fr
TRANSP:OPAQUE
END:VEVENT
END:VCALENDAR
