BEGIN:VCALENDAR
VERSION:2.0
PRODID:-//AMSE//Event Calendar//FR
CALSCALE:GREGORIAN
METHOD:PUBLISH
BEGIN:VEVENT
UID:event-10307@www.amse-aixmarseille.fr
DTSTAMP:20260421T230509Z
CREATED:20260421T230509Z
LAST-MODIFIED:20260421T230509Z
STATUS:CONFIRMED
SEQUENCE:0
SUMMARY:Eco-lunch - Bakhtawar Ali
DTSTART:20240314T113000Z
DTEND:20240314T123000Z
DESCRIPTION:\\n\\nContact: Nathalie Ferrière : nathalie.ferriere[at]scien
 cespo-aix.frFederico Trionfetti : federico.trionfetti[at]univ-amu.fr\n\nPl
 us d'informations: https://www.amse-aixmarseille.fr/fr/evenements/bakhtawar
 -ali-1
LOCATION:MEGA - Salle Carine Nourry\, 424\, Chemin du Viaduc\, 13080 Aix-en
 -Provence
URL;VALUE=URI:https://www.amse-aixmarseille.fr/fr/evenements/bakhtawar-ali-1
CONTACT:Nathalie Ferrière :&nbsp\;nathalie.ferriere[at]sciencespo-aix.frFe
 derico Trionfetti :&nbsp\;federico.trionfetti[at]univ-amu.fr
TRANSP:OPAQUE
END:VEVENT
END:VCALENDAR
