BEGIN:VCALENDAR
VERSION:2.0
PRODID:-//AMSE//Event Calendar//FR
CALSCALE:GREGORIAN
METHOD:PUBLISH
BEGIN:VEVENT
UID:event-10335@www.amse-aixmarseille.fr
DTSTAMP:20260422T132546Z
CREATED:20260422T132546Z
LAST-MODIFIED:20260422T132546Z
STATUS:CONFIRMED
SEQUENCE:0
SUMMARY:amse seminar - Armon Rezai
DTSTART:20230925T093000Z
DTEND:20230925T104500Z
DESCRIPTION:We estimate an EASI demand system with nonlinear Engel curves\,
  a labour supply schedule\, and an income tax schedule from German househol
 d data. We combine this with a model of households’ and firms’ carbon e
 missions to obtain a micro-based simulation model of the German economy. Th
 e policy of pricing carbon and rebating the revenue as lump-sum climate div
 idends curbs emissions and offsets some of the adverse effects on the equit
 y of regressive carbon taxes. If the government is permitted to also reform
  the income tax system\, it never lowers income tax revenue\, but makes the
  tax slightly less progressive in a budgetary-neutral fashion while simulta
 neously increasing the optimal carbon tax and climate dividend. Carbon tax 
 and climate dividends rise with inequality aversion and carbon is priced co
 nsistently below the Pigouvian rate except if inequality aversion is high e
 nough. We decompose the effects on welfare into efficiency\, equity\, and e
 mission components for different degrees of inequality coefficient and clim
 ate damages. Income tax reform is preferred over climate dividends when rai
 sing carbon taxes if inequality aversion is low and vice versa.\\n\\nContac
 t: Nicolas Clootens : nicolas.clootens[at]univ-amu.frRomain Ferrali : romai
 n.ferrali[at]univ-amu.fr\n\nPlus d'informations: https://www.amse-aixmarsei
 lle.fr/fr/evenements/armon-rezai-1
LOCATION:Îlot Bernard du Bois - Amphithéâtre\, AMU - AMSE\, 5-9 boulevar
 d Maurice Bourdet\, 13001 Marseille
URL;VALUE=URI:https://www.amse-aixmarseille.fr/fr/evenements/armon-rezai-1
CONTACT:Nicolas Clootens : nicolas.clootens[at]univ-amu.frRomain Ferrali : 
 romain.ferrali[at]univ-amu.fr
TRANSP:OPAQUE
END:VEVENT
END:VCALENDAR
