BEGIN:VCALENDAR
VERSION:2.0
PRODID:-//AMSE//Event Calendar//FR
CALSCALE:GREGORIAN
METHOD:PUBLISH
BEGIN:VEVENT
UID:event-10345@www.amse-aixmarseille.fr
DTSTAMP:20260421T195554Z
CREATED:20260421T195554Z
LAST-MODIFIED:20260421T195554Z
STATUS:CONFIRMED
SEQUENCE:0
SUMMARY:amse seminar - Gianmarco Ottaviano
DTSTART:20231120T103000Z
DTEND:20231120T114500Z
DESCRIPTION:Balassaâ€™s index of revealed comparative advantage is not a su
 fficient statistic for identifying the existence\, magnitude\, and source o
 f Ricardian comparative advantage. We overcome this issue by developing an 
 alternative structural approach to the measurement of Ricardian comparative
  advantage based on a quantitative trade model with firm and product select
 ion\, where both relative unit input requirements and relative factor endow
 ments play a role. Through the lens of the model\, we identify sets of suff
 icient statistics for the endogenous and exogenous components of a countryâ
 €™s productivity relative to the rest of the world. Among the exogenous com
 ponents\, we target the countryâ€™s relative state of technology as the exo
 genous determinant of its Ricardian comparative advantage. Applying our app
 roach to Chinese micro and macro data\, we find that\, while the state of t
 echnology has important implications for the micro behavior of individual f
 irms\, firmsâ€™ responses have\, in turn\, far-reaching macro implications 
 for aggregate productivity and revealed comparative advantage.\\n\\nContact
 : Nicolas Clootens : nicolas.clootens[at]univ-amu.frRomain Ferrali : romain
 .ferrali[at]univ-amu.fr\n\nPlus d'informations: https://www.amse-aixmarseil
 le.fr/fr/evenements/gianmarco-ottaviano
LOCATION:ĂŽlot Bernard du Bois - AmphithĂ©Ă˘tre\, AMU - AMSE\, 5-9 boulevar
 d Maurice Bourdet\, 13001 Marseille
URL;VALUE=URI:https://www.amse-aixmarseille.fr/fr/evenements/gianmarco-ottaviano
CONTACT:Nicolas Clootens : nicolas.clootens[at]univ-amu.frRomain Ferrali : 
 romain.ferrali[at]univ-amu.fr
TRANSP:OPAQUE
END:VEVENT
END:VCALENDAR
