BEGIN:VCALENDAR
VERSION:2.0
PRODID:-//AMSE//Event Calendar//FR
CALSCALE:GREGORIAN
METHOD:PUBLISH
BEGIN:VEVENT
UID:event-10347@www.amse-aixmarseille.fr
DTSTAMP:20260422T013216Z
CREATED:20260422T013216Z
LAST-MODIFIED:20260422T013216Z
STATUS:CONFIRMED
SEQUENCE:0
SUMMARY:amse seminar - Pol Campos-Mercade
DTSTART:20231218T103000Z
DTEND:20231218T114500Z
DESCRIPTION:We provide evidence that offering financial incentives for COVI
 D-19 vaccination is an effective and safe policy to increase vaccination up
 take. We then study public attitudes towards offering financial incentives\
 , investigating whether public opposition to the use of incentives for heal
 th-related behaviors hinders their adoption. To measure and characterize at
 titudes\, we develop an experimental paradigm in which participants decide 
 whether to provide incentives to others to vaccinate. In a representative s
 ample of the Swedish population (N=1\,004)\, we find that a large share of 
 the population dislikes using financial incentives. Although people think i
 ncentives are effective\, they also view them as coercive and perceive them
  as unethical. Contrary to concerns raised in the academic literature\, peo
 ple do not believe that incentives erode moral values or that incentives si
 gnal danger. Lastly\, we document that the aversion to incentives extends b
 eyond vaccination to other healthy behaviors\, such as cancer screenings or
  smoking cessation. Our findings point to public disapproval as a key reaso
 n for why incentive policies are rarely used.\\n\\nContact: Nicolas Clooten
 s : nicolas.clootens[at]univ-amu.frRomain Ferrali : romain.ferrali[at]univ-
 amu.fr\n\nPlus d'informations: https://www.amse-aixmarseille.fr/fr/evenemen
 ts/pol-campos-mercade
LOCATION:Îlot Bernard du Bois - Amphithéâtre\, AMU - AMSE\, 5-9 boulevar
 d Maurice Bourdet\, 13001 Marseille
URL;VALUE=URI:https://www.amse-aixmarseille.fr/fr/evenements/pol-campos-mercade
CONTACT:Nicolas Clootens : nicolas.clootens[at]univ-amu.frRomain Ferrali : 
 romain.ferrali[at]univ-amu.fr
TRANSP:OPAQUE
END:VEVENT
END:VCALENDAR
