BEGIN:VCALENDAR
VERSION:2.0
PRODID:-//AMSE//Event Calendar//FR
CALSCALE:GREGORIAN
METHOD:PUBLISH
BEGIN:VEVENT
UID:event-10351@www.amse-aixmarseille.fr
DTSTAMP:20260422T205032Z
CREATED:20260422T205032Z
LAST-MODIFIED:20260422T205032Z
STATUS:CONFIRMED
SEQUENCE:0
SUMMARY:Eco-lunch - Arthur Guillouzouic
DTSTART:20231123T113000Z
DTEND:20231123T123000Z
DESCRIPTION:Introducing a new measure of scientific proximity between priva
 te firms and public research groups and exploiting a multi-billion euro fin
 ancing program of academic clusters in France\, we provide causal evidence 
 of spillovers from academic research to private sector firms. Firms in the 
 top quartile of exposure to the funding shock increase their R&D effort by 
 20% compared to the bottom quartile. We exploit reports produced by funded 
 clusters\, complemented by data on labor mobility and R&D public–private 
 partnerships\, to provide evidence on the channels for these spillovers. We
  show that spillovers are driven by outsourcing of R&D activities by the pr
 ivate to the public sectors and\, to a lesser extent\, by labor mobility fr
 om one to the other and by informal contacts. We discuss the policy implica
 tions of funding academic research to stimulate private R&D.\\n\\nContact: 
 Nathalie Ferrière : nathalie.ferriere[at]sciencespo-aix.frFederico Trionf
 etti : federico.trionfetti[at]univ-amu.fr\n\nPlus d'informations: https://
 www.amse-aixmarseille.fr/fr/evenements/arthur-guillouzouic
LOCATION:MEGA - Salle Carine Nourry\, 424\, Chemin du Viaduc\, 13080 Aix-en
 -Provence
URL;VALUE=URI:https://www.amse-aixmarseille.fr/fr/evenements/arthur-guillouzouic
CONTACT:Nathalie Ferrière :&nbsp\;nathalie.ferriere[at]sciencespo-aix.frFe
 derico Trionfetti :&nbsp\;federico.trionfetti[at]univ-amu.fr
TRANSP:OPAQUE
END:VEVENT
END:VCALENDAR
