BEGIN:VCALENDAR
VERSION:2.0
PRODID:-//AMSE//Event Calendar//FR
CALSCALE:GREGORIAN
METHOD:PUBLISH
BEGIN:VEVENT
UID:event-10355@www.amse-aixmarseille.fr
DTSTAMP:20260422T125627Z
CREATED:20260422T125627Z
LAST-MODIFIED:20260422T125627Z
STATUS:CONFIRMED
SEQUENCE:0
SUMMARY:phd seminar - Matteo Sestito*\, Lucas Buetje**
DTSTART:20230919T090000Z
DTEND:20230919T103000Z
DESCRIPTION:*This paper explores the agrarian origins of social capital and
  collectivism using Italy as a case study. The country displays striking so
 cio-economic and cultural differences within its territory. To a largely in
 ward-looking and mistrusting South is opposed the more dynamic civil societ
 y of the central and northern portions of the country\, where non-profit or
 ganisations abound. This study substantiates empirically a relatively new p
 erspective on the uneven distribution of social capital across the Italian 
 peninsula. Comparing geographically-close communes sharing the same institu
 tional history\, it is shown that historical reliance on sharecropping is a
 ssociated to more voluntary associations today. Sharecropping contracts man
 dated for an interdependent division of labour in the fields\, promoting th
 e formation of large and cohesive families. These larger and denser kin net
 works ultimately resulted into the collectivistic culture underpinning soci
 al participation in contemporary Italy.\\n\\nContact: Lucie Giorgi : lucie.
 giorgi[at]univ-amu.frRicardo Guzman : ricardo.guzman[at]univ-amu.frNatalia 
 Labrador : natalia.labrador-bernate[at]univ-amu.frNathan Vieira : nathan.v
 ieira[at]univ-amu.fr\n\nPlus d'informations: https://www.amse-aixmarseille.
 fr/fr/evenements/matteo-sestito-lucas-buetje
LOCATION:MEGA - Salle Carine Nourry\, 424\, Chemin du Viaduc\, 13080 Aix-en
 -Provence
URL;VALUE=URI:https://www.amse-aixmarseille.fr/fr/evenements/matteo-sestito-lucas-buetje
CONTACT:Lucie Giorgi : lucie.giorgi[at]univ-amu.frRicardo Guzman : ricardo.
 guzman[at]univ-amu.frNatalia Labrador :&nbsp\;natalia.labrador-bernate[at]u
 niv-amu.frNathan Vieira : nathan.vieira[at]univ-amu.fr
TRANSP:OPAQUE
END:VEVENT
END:VCALENDAR
