BEGIN:VCALENDAR
VERSION:2.0
PRODID:-//AMSE//Event Calendar//FR
CALSCALE:GREGORIAN
METHOD:PUBLISH
BEGIN:VEVENT
UID:event-10371@www.amse-aixmarseille.fr
DTSTAMP:20260422T220837Z
CREATED:20260422T220837Z
LAST-MODIFIED:20260422T220837Z
STATUS:CONFIRMED
SEQUENCE:0
SUMMARY:phd seminar - Guillaume Bataille
DTSTART:20231128T104500Z
DTEND:20231128T113000Z
DESCRIPTION:This paper presents an economic model that incorporates a prey-
 refuge\, which alters predator-prey dynamics by modifying the strength of s
 pecies interdependencies and indirectly changing economic incentives. The m
 odel consists of a two-stage game\, where fisheries have the option to coop
 erate in selecting the refuge size\, and then behave non-cooperatively in h
 arvesting under the chosen refuge size. It is shown that the unique feedbac
 k Nash equilibrium in linear strategies is characterized by a lower catch r
 ate in the presence of the refuge\, resulting in gains and losses for fishe
 ries due to the different trajectories of stocks. Numerical simulations dem
 onstrate the potential for cooperative surplus if the fisheries choose an a
 ppropriate refuge size in the first stage. The paper argues that\, in situa
 tions where multispecies management is not feasible\, cooperative behavior 
 on artificial refuges is welfare relevant.\\n\\nContact: Lucie Giorgi : luc
 ie.giorgi[at]univ-amu.frRicardo Guzman : ricardo.guzman[at]univ-amu.frNatal
 ia Labrador : natalia.labrador-bernate[at]univ-amu.frNathan Vieira : natha
 n.vieira[at]univ-amu.fr\n\nPlus d'informations: https://www.amse-aixmarseil
 le.fr/fr/evenements/guillaume-bataille
LOCATION:Îlot Bernard du Bois - Amphithéâtre\, AMU - AMSE\, 5-9 boulevar
 d Maurice Bourdet\, 13001 Marseille
URL;VALUE=URI:https://www.amse-aixmarseille.fr/fr/evenements/guillaume-bataille
CONTACT:Lucie Giorgi : lucie.giorgi[at]univ-amu.frRicardo Guzman : ricardo.
 guzman[at]univ-amu.frNatalia Labrador :&nbsp\;natalia.labrador-bernate[at]u
 niv-amu.frNathan Vieira : nathan.vieira[at]univ-amu.fr
TRANSP:OPAQUE
END:VEVENT
END:VCALENDAR
