BEGIN:VCALENDAR
VERSION:2.0
PRODID:-//AMSE//Event Calendar//FR
CALSCALE:GREGORIAN
METHOD:PUBLISH
BEGIN:VEVENT
UID:event-10375@www.amse-aixmarseille.fr
DTSTAMP:20260421T223841Z
CREATED:20260421T223841Z
LAST-MODIFIED:20260421T223841Z
STATUS:CONFIRMED
SEQUENCE:0
SUMMARY:phd seminar - Kohmei Makihara*\, Valentin Tissot**
DTSTART:20231212T100000Z
DTEND:20231212T113000Z
DESCRIPTION:*This paper analyzes the design of a mechanism for the planner 
 to allocate a good with externalities to agents having different type. The 
 objective of the planner is to maximize the utilitarian welfare\, which amo
 unts to allocate the entire good to the highest type. I consider the settin
 g in which each agent knows the type of their neighbors into the network\, 
 so that the planner can use the information that each agent has about his n
 eighbors. The paper proposes a 2-stage mechanism which divides the players 
 into self-reporting players (i.e. reporting that himself is the highest typ
 e in the neighborhood) and non self-reporting players\, and identify the hi
 ghest type by using the reports of non self-reporting players. The paper sh
 ows that the unique equilibrium allocation of this mechanism is to allocate
  whole good to the highest type\, if all pairs of players have a common nei
 ghbor.**Using value-added models\, this paper investigates the role of high
  school in students' orientation choices. I use French administrative data 
 providing information on all high school students who applied to higher edu
 cation and estimate high school value-added in France between 2014 and 2017
  for more than one million students. I then study the impact of high school
  value-added on orientation choices using applications made by 12th grade s
 tudents for the first year of higher education. I find that attending a hig
 h school with one standard deviation higher value-added causes an increase 
 in the probability of applying to selective programs by 3.7 percentage poin
 ts. I also find weaker effects for low-SES and female students.\\n\\nContac
 t: Lucie Giorgi : lucie.giorgi[at]univ-amu.frRicardo Guzman : ricardo.guzma
 n[at]univ-amu.frNatalia Labrador : natalia.labrador-bernate[at]univ-amu.fr
 Nathan Vieira : nathan.vieira[at]univ-amu.fr\n\nPlus d'informations: https:
 //www.amse-aixmarseille.fr/fr/evenements/kohmei-makihara-valentin-tissot
LOCATION:MEGA - Salle Carine Nourry\, 424\, Chemin du Viaduc\, 13080 Aix-en
 -Provence
URL;VALUE=URI:https://www.amse-aixmarseille.fr/fr/evenements/kohmei-makihara-valentin-tissot
CONTACT:Lucie Giorgi : lucie.giorgi[at]univ-amu.frRicardo Guzman : ricardo.
 guzman[at]univ-amu.frNatalia Labrador :&nbsp\;natalia.labrador-bernate[at]u
 niv-amu.frNathan Vieira : nathan.vieira[at]univ-amu.fr
TRANSP:OPAQUE
END:VEVENT
END:VCALENDAR
