BEGIN:VCALENDAR
VERSION:2.0
PRODID:-//AMSE//Event Calendar//FR
CALSCALE:GREGORIAN
METHOD:PUBLISH
BEGIN:VEVENT
UID:event-10389@www.amse-aixmarseille.fr
DTSTAMP:20260422T001451Z
CREATED:20260422T001451Z
LAST-MODIFIED:20260422T001451Z
STATUS:CONFIRMED
SEQUENCE:0
SUMMARY:Eco-lunch - Alain Venditti
DTSTART:20231214T113000Z
DTEND:20231214T123000Z
DESCRIPTION:\\n\\nContact: Nathalie Ferrière : nathalie.ferriere[at]scienc
 espo-aix.frFederico Trionfetti : federico.trionfetti[at]univ-amu.fr\n\nPlus
  d'informations: https://www.amse-aixmarseille.fr/fr/evenements/alain-vendi
 tti-1
LOCATION:MEGA - Salle Carine Nourry\, 424\, Chemin du Viaduc\, 13080 Aix-en
 -Provence
URL;VALUE=URI:https://www.amse-aixmarseille.fr/fr/evenements/alain-venditti-1
CONTACT:Nathalie Ferrière : nathalie.ferriere[at]sciencespo-aix.frFederico
  Trionfetti : federico.trionfetti[at]univ-amu.fr
TRANSP:OPAQUE
END:VEVENT
END:VCALENDAR
