BEGIN:VCALENDAR
VERSION:2.0
PRODID:-//AMSE//Event Calendar//FR
CALSCALE:GREGORIAN
METHOD:PUBLISH
BEGIN:VEVENT
UID:event-10399@www.amse-aixmarseille.fr
DTSTAMP:20260421T223847Z
CREATED:20260421T223847Z
LAST-MODIFIED:20260421T223847Z
STATUS:CONFIRMED
SEQUENCE:0
SUMMARY:Macro and labor market seminar - Francesco Pappadà
DTSTART:20231208T113000Z
DTEND:20231208T123000Z
DESCRIPTION:This paper offers a new approach to measuring the size of the i
 nformal economy based on VAT data for the European Union. Although data int
 ensive\, our EVADE measure is simpler and more transparent than existing me
 asures. EVADE also shows more variation across countries of Europe than ear
 lier measures\, including significantly higher informality in Greece\, Ital
 y and Spain\, for example. Moreover\, we find considerably higher variation
  within countries across time\; in a cross-country time series regression\,
  controlling for tax rates\, we confirm that the informal economy grows sig
 nificantly in recessions and decreases in booms\, which we term the “Hugo
  effect”.\\n\\nContact: Marco Fongoni : marco.fongoni[at]univ-amu.frFranc
 esco Gaudio : francesco-saverio.gaudio[at]univ-amu.fr\n\nPlus d'informatio
 ns: https://www.amse-aixmarseille.fr/fr/evenements/francesco-pappad%C3%A0-1
LOCATION:Îlot Bernard du Bois - Salle 15\, AMU - AMSE\, 5-9 boulevard Maur
 ice Bourdet\, 13001 Marseille
URL;VALUE=URI:https://www.amse-aixmarseille.fr/fr/evenements/francesco-pappad%C3%A0-1
CONTACT:Marco Fongoni : marco.fongoni[at]univ-amu.frFrancesco Gaudio :&nbsp
 \;francesco-saverio.gaudio[at]univ-amu.fr
TRANSP:OPAQUE
END:VEVENT
END:VCALENDAR
