BEGIN:VCALENDAR
VERSION:2.0
PRODID:-//AMSE//Event Calendar//FR
CALSCALE:GREGORIAN
METHOD:PUBLISH
BEGIN:VEVENT
UID:event-10415@www.amse-aixmarseille.fr
DTSTAMP:20260422T145919Z
CREATED:20260422T145919Z
LAST-MODIFIED:20260422T145919Z
STATUS:CONFIRMED
SEQUENCE:0
SUMMARY:Séminaires internes - Newcomers Welcome Day
DTSTART:20230922T101500Z
DTEND:20230922T160000Z
DESCRIPTION:\\n\\nContact: communication[at]amse-aixmarseille.fr\n\nPlus d'
 informations: https://www.amse-aixmarseille.fr/fr/evenements/newcomers-welc
 ome-day
LOCATION:Îlot Bernard du Bois - Amphithéâtre\, AMU - AMSE\, 5-9 boulevar
 d Maurice Bourdet\, 13001 Marseille
URL;VALUE=URI:https://www.amse-aixmarseille.fr/fr/evenements/newcomers-welcome-day
CONTACT:communication[at]amse-aixmarseille.fr
TRANSP:OPAQUE
END:VEVENT
END:VCALENDAR
