BEGIN:VCALENDAR
VERSION:2.0
PRODID:-//AMSE//Event Calendar//FR
CALSCALE:GREGORIAN
METHOD:PUBLISH
BEGIN:VEVENT
UID:event-10470@www.amse-aixmarseille.fr
DTSTAMP:20260421T155406Z
CREATED:20260421T155406Z
LAST-MODIFIED:20260421T155406Z
STATUS:CONFIRMED
SEQUENCE:0
SUMMARY:confÃ©rences/workshops - Les rencontres de la politique monÃ©taire 
 - Banque de France/AMSE/FEG
DTSTART:20231018T151500Z
DTEND:20231018T151500Z
DESCRIPTION:Â La Banque de France\, AMSE et la FacultÃ© d'Ã‰conomie et de G
 estion (FEG)Â proposent lesÂ "Rencontres de la politique monÃ©taire" :- ThÃ
 ¨me :Â Â«Â Comment la France et l'Europe vont vaincre l'inflation ?Â Â»- Da
 te : mercredi 18 octobre 2023- Heure : 17h15- Lieu : FacultÃ© d'Ã©conomie e
 t de gestion\, 14 avenue Jules Ferry\, 13090 Aix-en-ProvenceL'objectif prin
 cipal de cet Ã©vÃ©nement est d'offrir lâ€™opportunitÃ© de rencontrer lâ€™un
 e des figures-clÃ©s de la politique monÃ©taire en France\, MmeÂ Marie-Laure
  Barut-Etherington\, Cheffe Economiste Adjointe et Directrice GÃ©nÃ©rale ad
 jointe Ã  la Banque de France. Vous aurez ainsi lâ€™occasion de lui poser d
 es questions sur le rÃ´le de la Banque de France et de sa politique monÃ©ta
 ire.DÃ©roulÃ© :Diffusion d'un micro-trottoir rÃ©alisÃ© par les Ã©tudiants i
 mpliquÃ©s dans le mÃ©dia en ligneÂ EcoPressPrÃ©sentation pour introduire la
  discussion\, Marie-Laure Barut-EtheringtonSession deÂ questions/rÃ©ponsesL
 a confÃ©rence sera suivie d'un cocktail.>> Inscription obligatoire\, places
  limitÃ©es \; suivreÂ ce lien.Â Â© Image Banque de France\\n\\nContact: 104
 7-evenementiel-ut[at]banque-france.fr\n\nPlus d'informations: https://www.a
 mse-aixmarseille.fr/fr/evenements/les-rencontres-de-la-politique-mon%C3%A9t
 aire-banque-de-franceamsefeg
URL;VALUE=URI:https://www.amse-aixmarseille.fr/fr/evenements/les-rencontres-de-la-politique-mon%C3%A9taire-banque-de-franceamsefeg
CONTACT:1047-evenementiel-ut[at]banque-france.fr
TRANSP:OPAQUE
END:VEVENT
END:VCALENDAR
