BEGIN:VCALENDAR
VERSION:2.0
PRODID:-//AMSE//Event Calendar//FR
CALSCALE:GREGORIAN
METHOD:PUBLISH
BEGIN:VEVENT
UID:event-10476@www.amse-aixmarseille.fr
DTSTAMP:20260421T214112Z
CREATED:20260421T214112Z
LAST-MODIFIED:20260421T214112Z
STATUS:CONFIRMED
SEQUENCE:0
SUMMARY:conférences/workshops - Workshop on Development and Behavioral Eco
 nomics
DTSTART:20231205T080000Z
DTEND:20231205T170000Z
DESCRIPTION:\\n\\nContact: Eva Raiber : eva.raiber[at]univ-amu.fr\n\nPlus d
 'informations: https://www.amse-aixmarseille.fr/fr/evenements/workshop-deve
 lopment-and-behavioral-economics
LOCATION:Îlot Bernard du Bois - Amphithéâtre\, AMU - AMSE\, 5-9 boulevar
 d Maurice Bourdet\, 13001 Marseille
URL;VALUE=URI:https://www.amse-aixmarseille.fr/fr/evenements/workshop-development-and-behavioral-economics
CONTACT:Eva Raiber : eva.raiber[at]univ-amu.fr
TRANSP:OPAQUE
END:VEVENT
END:VCALENDAR
