BEGIN:VCALENDAR
VERSION:2.0
PRODID:-//AMSE//Event Calendar//FR
CALSCALE:GREGORIAN
METHOD:PUBLISH
BEGIN:VEVENT
UID:event-10482@www.amse-aixmarseille.fr
DTSTAMP:20260422T133632Z
CREATED:20260422T133632Z
LAST-MODIFIED:20260422T133632Z
STATUS:CONFIRMED
SEQUENCE:0
SUMMARY:conférences/workshops - 23e Journées Louis-André Gérard-Varet
DTSTART:20240626T070000Z
DTEND:20240628T150000Z
DESCRIPTION:\\n\\nContact: contact[at]amselagv.com\n\nPlus d'informations: 
 https://www.amse-aixmarseille.fr/fr/evenements/23e-journ%C3%A9es-louis-andr
 %C3%A9-g%C3%A9rard-varet
URL;VALUE=URI:https://www.amse-aixmarseille.fr/fr/evenements/23e-journ%C3%A9es-louis-andr%C3%A9-g%C3%A9rard-varet
CONTACT:contact[at]amselagv.com
TRANSP:OPAQUE
END:VEVENT
END:VCALENDAR
