BEGIN:VCALENDAR
VERSION:2.0
PRODID:-//AMSE//Event Calendar//FR
CALSCALE:GREGORIAN
METHOD:PUBLISH
BEGIN:VEVENT
UID:event-10510@www.amse-aixmarseille.fr
DTSTAMP:20260422T000436Z
CREATED:20260422T000436Z
LAST-MODIFIED:20260422T000436Z
STATUS:CONFIRMED
SEQUENCE:0
SUMMARY:finance seminar - Jeanne Amar
DTSTART:20231219T093000Z
DTEND:20231219T110000Z
DESCRIPTION:In this paper\, we investigate whether companies' carbon manage
 ment practices (CMPs) influence their greenhouse gas (GHG) emissions trajec
 tory. Using a global sample of 427 companies over the period 2018-2021\, we
  estimate a logit model and a tobit model to assess the influence of CMPs o
 n\, on the one hand\, the decision to follow an emissions reduction traject
 ory\, and on the other hand\, the magnitude of this reduction. Our results 
 show that the decision to follow an emissions reduction trajectory is posit
 ively influenced by various CMPs\, but that once this decision has been tak
 en\, the only practice that effectively influences the magnitude of the red
 uction is subscribing to the ISO 14001 voluntary standard. Our results also
  show that the most polluting companies are less likely to follow a downwar
 d trajectory\, and that when they choose to do so\, the higher the emission
 s\, the lower the magnitude of the reduction. These results are of interest
  to companies wishing to implement CMPs with a real impact on their climate
  performance\, and to policymakers wishing to set up incentives for compani
 es to reduce their emissions.\\n\\nContact: Eric Girardin : eric.girardin[a
 t]univ-amu.frGaël Leboeuf : gael.leboeuf[at]univ-amu.frChristelle Lecourt 
 : christelle.lecourt[at]univ-amu.fr\n\nPlus d'informations: https://www.ams
 e-aixmarseille.fr/fr/evenements/jeanne-amar
LOCATION:MEGA - Salle Carine Nourry\, 424\, Chemin du Viaduc\, 13080 Aix-en
 -Provence
URL;VALUE=URI:https://www.amse-aixmarseille.fr/fr/evenements/jeanne-amar
CONTACT:Eric Girardin : eric.girardin[at]univ-amu.frGaël Leboeuf : gael.le
 boeuf[at]univ-amu.frChristelle Lecourt : christelle.lecourt[at]univ-amu.fr
TRANSP:OPAQUE
END:VEVENT
END:VCALENDAR
