BEGIN:VCALENDAR
VERSION:2.0
PRODID:-//AMSE//Event Calendar//FR
CALSCALE:GREGORIAN
METHOD:PUBLISH
BEGIN:VEVENT
UID:event-10523@www.amse-aixmarseille.fr
DTSTAMP:20260422T192706Z
CREATED:20260422T192706Z
LAST-MODIFIED:20260422T192706Z
STATUS:CONFIRMED
SEQUENCE:0
SUMMARY:Practice job talks - Jan-Luca Hennig
DTSTART:20231109T133000Z
DTEND:20231109T144500Z
DESCRIPTION:\\n\\nContact: Timothée Demont : timothee.demont[at]univ-amu.f
 r\n\nPlus d'informations: https://www.amse-aixmarseille.fr/fr/evenements/ja
 n-luca-hennig-3
LOCATION:Îlot Bernard du Bois - Salle 21\, AMU - AMSE\, 5-9 boulevard Maur
 ice Bourdet\, 13001 Marseille
URL;VALUE=URI:https://www.amse-aixmarseille.fr/fr/evenements/jan-luca-hennig-3
CONTACT:Timothée Demont : timothee.demont[at]univ-amu.fr
TRANSP:OPAQUE
END:VEVENT
END:VCALENDAR
