BEGIN:VCALENDAR
VERSION:2.0
PRODID:-//AMSE//Event Calendar//FR
CALSCALE:GREGORIAN
METHOD:PUBLISH
BEGIN:VEVENT
UID:event-10525@www.amse-aixmarseille.fr
DTSTAMP:20260422T193120Z
CREATED:20260422T193120Z
LAST-MODIFIED:20260422T193120Z
STATUS:CONFIRMED
SEQUENCE:0
SUMMARY:Practice job talks - Tizié Béné
DTSTART:20231107T133000Z
DTEND:20231107T144500Z
DESCRIPTION:I develop a model to explore the interplay between formal insur
 ance and informal risk-sharing networks. Agents face idiosyncratic shocks\,
  which they mitigate by establishing risk-sharing links and opting for form
 al insurance. When forming a link\, agents consider the sum of their utilit
 ies. My findings indicate that below the actuarial price\, formal insurance
  eliminates the need for informal networks\, leading to an empty network as
  the unique stable state. Above the actuarial price but still low\, specifi
 c price thresholds shape stable networks’ structure. Importantly\, I find
  that the size of the largest component in a risk-sharing network can be gr
 eater when insurance is priced above the actuarial price level but is still
  low\, compared to a no-insurance scenario.\\n\\nContact: Timothée Demont 
 : timothee.demont[at]univ-amu.fr\n\nPlus d'informations: https://www.amse-a
 ixmarseille.fr/fr/evenements/tizi%C3%A9-b%C3%A9n%C3%A9-1
LOCATION:Îlot Bernard du Bois - Salle 21\, AMU - AMSE\, 5-9 boulevard Maur
 ice Bourdet\, 13001 Marseille
URL;VALUE=URI:https://www.amse-aixmarseille.fr/fr/evenements/tizi%C3%A9-b%C3%A9n%C3%A9-1
CONTACT:Timothée Demont : timothee.demont[at]univ-amu.fr
TRANSP:OPAQUE
END:VEVENT
END:VCALENDAR
