BEGIN:VCALENDAR
VERSION:2.0
PRODID:-//AMSE//Event Calendar//FR
CALSCALE:GREGORIAN
METHOD:PUBLISH
BEGIN:VEVENT
UID:event-10535@www.amse-aixmarseille.fr
DTSTAMP:20260422T220745Z
CREATED:20260422T220745Z
LAST-MODIFIED:20260422T220745Z
STATUS:CONFIRMED
SEQUENCE:0
SUMMARY:Practice job talks - Sarah Vincent
DTSTART:20231128T133000Z
DTEND:20231128T144500Z
DESCRIPTION:This paper investigates the impact of a unique government-manda
 ted male sterilization program that occurred in India on the rise of violen
 ce. Launched in April 1976\, this program predominantly targeted husbands w
 ith more than two children and was heterogeneously implemented across India
  over 10 months. Using various household surveys and newly digitised histor
 ical data sources\, we study whether this program triggered unintended effe
 cts on violence. Using various difference-in-differences strategies\, explo
 iting geographical variation in coercion intensity\, we find that an increa
 se of 1 percentage point in exposure to this program led to an increase in 
 violent crime rates by 1.6% persistent until 2004. This effect is driven by
  rapes and murders\, which increase respectively by 4.6% and 1%. Additional
 ly\, we find that districts with high coercion intensity correlate with hig
 her levels of Intimate Partner Violence (IPV)\, acceptance of IPV\, lower b
 argaining power of women and lower contraception adoption.\\n\\nContact: Ti
 mothée Demont : timothee.demont[at]univ-amu.fr\n\nPlus d'informations: htt
 ps://www.amse-aixmarseille.fr/fr/evenements/sarah-vincent-1
LOCATION:Îlot Bernard du Bois - Salle 24\, AMU - AMSE\, 5-9 boulevard Maur
 ice Bourdet\, 13001 Marseille
URL;VALUE=URI:https://www.amse-aixmarseille.fr/fr/evenements/sarah-vincent-1
CONTACT:Timothée Demont : timothee.demont[at]univ-amu.fr
TRANSP:OPAQUE
END:VEVENT
END:VCALENDAR
