BEGIN:VCALENDAR
VERSION:2.0
PRODID:-//AMSE//Event Calendar//FR
CALSCALE:GREGORIAN
METHOD:PUBLISH
BEGIN:VEVENT
UID:event-10537@www.amse-aixmarseille.fr
DTSTAMP:20260421T210854Z
CREATED:20260421T210854Z
LAST-MODIFIED:20260421T210854Z
STATUS:CONFIRMED
SEQUENCE:0
SUMMARY:Practice job talks - Sofia Ruiz Palazuelos
DTSTART:20231129T133000Z
DTEND:20231129T144500Z
DESCRIPTION:In many circumstances\, behavior and well-being of people depen
 d on the actions taken by their social contacts. Previous research has main
 ly studied how individuals’ choices are shaped by their number of connect
 ions\, while the incidence that other features of their social networks hav
 e on their behavior has been understudied. This paper analyzes the role of 
 network clustering in Bayesian games of strategic substitutes and strategic
  complements played on networks\, which reflect for instance public good pr
 ovision and technology adoption\, respectively. In our framework\, players 
 have incomplete information about the interaction network that includes the
  number of triads in the network — information labeled as perceived clust
 ering throughout the paper. We show that equilibrium actions are non-decrea
 sing (non-increasing) in perceived clustering under strategic substitutes (
 complements). Greater perceived clustering thus increases public good provi
 sion and reduces the adoption of complementary technologies in the Bayesian
  equilibria.\\n\\nContact: Timothée Demont : timothee.demont[at]univ-amu.f
 r\n\nPlus d'informations: https://www.amse-aixmarseille.fr/fr/evenements/so
 fia-ruiz-palazuelos
LOCATION:Îlot Bernard du Bois - Salle 16\, AMU - AMSE\, 5-9 boulevard Maur
 ice Bourdet\, 13001 Marseille
URL;VALUE=URI:https://www.amse-aixmarseille.fr/fr/evenements/sofia-ruiz-palazuelos
CONTACT:Timothée Demont : timothee.demont[at]univ-amu.fr
TRANSP:OPAQUE
END:VEVENT
END:VCALENDAR
