BEGIN:VCALENDAR
VERSION:2.0
PRODID:-//AMSE//Event Calendar//FR
CALSCALE:GREGORIAN
METHOD:PUBLISH
BEGIN:VEVENT
UID:event-10549@www.amse-aixmarseille.fr
DTSTAMP:20260422T014917Z
CREATED:20260422T014917Z
LAST-MODIFIED:20260422T014917Z
STATUS:CONFIRMED
SEQUENCE:0
SUMMARY:amse seminar - Isabelle Méjean
DTSTART:20240212T103000Z
DTEND:20240212T114500Z
DESCRIPTION:We build a dynamic Ricardian model of trade with search frictio
 ns. The model generates an endogenous network of firm-to-firm trade relatio
 nships and price bargaining within and across relationships. Following a fo
 reign shock\, firms sourcing inputs from abroad have three options: absorb 
 the shock\, renegotiate with their current supplier or switch to a supplier
  in another country. The size of these adjustment margins depends on the in
 terplay between Ricardian comparative advantages\, search frictions and fir
 ms’ individual characteristics. We exploit French firm-to-firm trade data
  to estimate the model structurally and quantify the relative importance of
  these adjustment margins at sector-country level.\\n\\nContact: Nicolas Cl
 ootens : nicolas.clootens[at]univ-amu.frRomain Ferrali : romain.ferrali[at]
 univ-amu.fr\n\nPlus d'informations: https://www.amse-aixmarseille.fr/fr/eve
 nements/isabelle-m%C3%A9jean
LOCATION:Îlot Bernard du Bois - Amphithéâtre\, AMU - AMSE\, 5-9 boulevar
 d Maurice Bourdet\, 13001 Marseille
URL;VALUE=URI:https://www.amse-aixmarseille.fr/fr/evenements/isabelle-m%C3%A9jean
CONTACT:Nicolas Clootens : nicolas.clootens[at]univ-amu.frRomain Ferrali : 
 romain.ferrali[at]univ-amu.fr
TRANSP:OPAQUE
END:VEVENT
END:VCALENDAR
