BEGIN:VCALENDAR
VERSION:2.0
PRODID:-//AMSE//Event Calendar//FR
CALSCALE:GREGORIAN
METHOD:PUBLISH
BEGIN:VEVENT
UID:event-10551@www.amse-aixmarseille.fr
DTSTAMP:20260422T015042Z
CREATED:20260422T015042Z
LAST-MODIFIED:20260422T015042Z
STATUS:CONFIRMED
SEQUENCE:0
SUMMARY:amse seminar - Makoto Yano
DTSTART:20240219T103000Z
DTEND:20240219T114500Z
DESCRIPTION:\\n\\nContact: Nicolas Clootens : nicolas.clootens[at]univ-amu.
 frRomain Ferrali : romain.ferrali[at]univ-amu.fr\n\nPlus d'informations: ht
 tps://www.amse-aixmarseille.fr/fr/evenements/makoto-yano
LOCATION:Îlot Bernard du Bois - Amphithéâtre\, AMU - AMSE\, 5-9 boulevar
 d Maurice Bourdet\, 13001 Marseille
URL;VALUE=URI:https://www.amse-aixmarseille.fr/fr/evenements/makoto-yano
CONTACT:Nicolas Clootens : nicolas.clootens[at]univ-amu.frRomain Ferrali : 
 romain.ferrali[at]univ-amu.fr
TRANSP:OPAQUE
END:VEVENT
END:VCALENDAR
