BEGIN:VCALENDAR
VERSION:2.0
PRODID:-//AMSE//Event Calendar//FR
CALSCALE:GREGORIAN
METHOD:PUBLISH
BEGIN:VEVENT
UID:event-10555@www.amse-aixmarseille.fr
DTSTAMP:20260421T230545Z
CREATED:20260421T230545Z
LAST-MODIFIED:20260421T230545Z
STATUS:CONFIRMED
SEQUENCE:0
SUMMARY:amse seminar - Uwe Sunde
DTSTART:20240318T103000Z
DTEND:20240318T114500Z
DESCRIPTION:Recent evidence shows substantial heterogeneity in time\, risk\
 , and social preferences across and within populations\; yet little is know
 n about the dynamics of preference heterogeneity across generations. We app
 ly a novel identification strategy based on dyadic differences in preferenc
 es using representative data for 80\,000 individuals from 76 countries. Our
  results document that\, among more recent birth cohorts\, preferences are 
 more similar across countries and gender gaps in preferences are smaller wi
 thin countries. This decline in preference heterogeneity across cohorts rel
 ates to country-specific differences in preference endowments\, population 
 composition\, and socioeconomic conditions during formative years\, and poi
 nts at global cultural convergence.\\n\\nContact: Nicolas Clootens : nicola
 s.clootens[at]univ-amu.frRomain Ferrali : romain.ferrali[at]univ-amu.fr\n\n
 Plus d'informations: https://www.amse-aixmarseille.fr/fr/evenements/uwe-sun
 de
LOCATION:Îlot Bernard du Bois - Amphithéâtre\, AMU - AMSE\, 5-9 boulevar
 d Maurice Bourdet\, 13001 Marseille
URL;VALUE=URI:https://www.amse-aixmarseille.fr/fr/evenements/uwe-sunde
CONTACT:Nicolas Clootens : nicolas.clootens[at]univ-amu.frRomain Ferrali : 
 romain.ferrali[at]univ-amu.fr
TRANSP:OPAQUE
END:VEVENT
END:VCALENDAR
