BEGIN:VCALENDAR
VERSION:2.0
PRODID:-//AMSE//Event Calendar//FR
CALSCALE:GREGORIAN
METHOD:PUBLISH
BEGIN:VEVENT
UID:event-10563@www.amse-aixmarseille.fr
DTSTAMP:20260421T165249Z
CREATED:20260421T165249Z
LAST-MODIFIED:20260421T165249Z
STATUS:CONFIRMED
SEQUENCE:0
SUMMARY:economic philosophy seminar - Robert Krause
DTSTART:20231016T140000Z
DTEND:20231016T160000Z
DESCRIPTION:\\n\\nContact: Feriel Kandil : feriel.kandil[at]univ-amu.frMir
 iam Teschl : miriam.teschl[at]ehess.fr\n\nPlus d'informations: https://www
 .amse-aixmarseille.fr/fr/evenements/robert-krause
LOCATION:Îlot Bernard du Bois - Salle 15\, AMU - AMSE\, 5-9 boulevard Maur
 ice Bourdet\, 13001 Marseille
URL;VALUE=URI:https://www.amse-aixmarseille.fr/fr/evenements/robert-krause
CONTACT:Feriel Kandil :&nbsp\;feriel.kandil[at]univ-amu.frMiriam Teschl :&n
 bsp\;miriam.teschl[at]ehess.fr
TRANSP:OPAQUE
END:VEVENT
END:VCALENDAR
