BEGIN:VCALENDAR
VERSION:2.0
PRODID:-//AMSE//Event Calendar//FR
CALSCALE:GREGORIAN
METHOD:PUBLISH
BEGIN:VEVENT
UID:event-10567@www.amse-aixmarseille.fr
DTSTAMP:20260421T223847Z
CREATED:20260421T223847Z
LAST-MODIFIED:20260421T223847Z
STATUS:CONFIRMED
SEQUENCE:0
SUMMARY:economic philosophy seminar - Florian Guibelin
DTSTART:20231211T150000Z
DTEND:20231211T170000Z
DESCRIPTION:À partir de l’analyse des propositions d’une allocation in
 conditionnelle de Milton Friedman\, Philippe Van Parijs et André Gorz et d
 ’anticipations de leurs conséquences\, on peut noter d’une part des ju
 stifications différentes de création de cette allocation\, et d’autre p
 art des effets suite à sa mise en place potentiellement opposés. On peut 
 donc interroger le caractère unitaire des réflexions sur le revenu univer
 sel.\\n\\nContact: Feriel Kandil : feriel.kandil[at]univ-amu.frMiriam Tesc
 hl : miriam.teschl[at]ehess.fr\n\nPlus d'informations: https://www.amse-ai
 xmarseille.fr/fr/evenements/florian-guibelin-1
LOCATION:Îlot Bernard du Bois - Salle 15\, AMU - AMSE\, 5-9 boulevard Maur
 ice Bourdet\, 13001 Marseille
URL;VALUE=URI:https://www.amse-aixmarseille.fr/fr/evenements/florian-guibelin-1
CONTACT:Feriel Kandil :&nbsp\;feriel.kandil[at]univ-amu.frMiriam Teschl :&n
 bsp\;miriam.teschl[at]ehess.fr
TRANSP:OPAQUE
END:VEVENT
END:VCALENDAR
