BEGIN:VCALENDAR
VERSION:2.0
PRODID:-//AMSE//Event Calendar//FR
CALSCALE:GREGORIAN
METHOD:PUBLISH
BEGIN:VEVENT
UID:event-10574@www.amse-aixmarseille.fr
DTSTAMP:20260421T223729Z
CREATED:20260421T223729Z
LAST-MODIFIED:20260421T223729Z
STATUS:CONFIRMED
SEQUENCE:0
SUMMARY:Practice job talks - Daniela Arlia
DTSTART:20231207T133000Z
DTEND:20231207T144500Z
DESCRIPTION:\\n\\nContact: Timothée Demont : timothee.demont[at]univ-amu.f
 r\n\nPlus d'informations: https://www.amse-aixmarseille.fr/fr/evenements/da
 niela-arlia-7
LOCATION:MEGA - Salle Carine Nourry\, 424\, Chemin du Viaduc\, 13080 Aix-en
 -Provence
URL;VALUE=URI:https://www.amse-aixmarseille.fr/fr/evenements/daniela-arlia-7
CONTACT:Timothée Demont : timothee.demont[at]univ-amu.fr
TRANSP:OPAQUE
END:VEVENT
END:VCALENDAR
