BEGIN:VCALENDAR
VERSION:2.0
PRODID:-//AMSE//Event Calendar//FR
CALSCALE:GREGORIAN
METHOD:PUBLISH
BEGIN:VEVENT
UID:event-10618@www.amse-aixmarseille.fr
DTSTAMP:20260421T114732Z
CREATED:20260421T114732Z
LAST-MODIFIED:20260421T114732Z
STATUS:CONFIRMED
SEQUENCE:0
SUMMARY:soutenances de thèse - Naël Shehadeh
DTSTART:20231221T150000Z
DTEND:20231221T150000Z
DESCRIPTION:Plus d'informations: https://www.amse-aixmarseille.fr/fr/evenem
 ents/na%C3%ABl-shehadeh-1
LOCATION:MEGA - Salle Carine Nourry\, 424\, Chemin du Viaduc\, 13080 Aix-en
 -Provence
URL;VALUE=URI:https://www.amse-aixmarseille.fr/fr/evenements/na%C3%ABl-shehadeh-1
TRANSP:OPAQUE
END:VEVENT
END:VCALENDAR
