BEGIN:VCALENDAR
VERSION:2.0
PRODID:-//AMSE//Event Calendar//FR
CALSCALE:GREGORIAN
METHOD:PUBLISH
BEGIN:VEVENT
UID:event-10630@www.amse-aixmarseille.fr
DTSTAMP:20260421T164632Z
CREATED:20260421T164632Z
LAST-MODIFIED:20260421T164632Z
STATUS:CONFIRMED
SEQUENCE:0
SUMMARY:French-Japanese webinar - Benjamin Keddad
DTSTART:20231027T090000Z
DTEND:20231027T100000Z
DESCRIPTION:\\n\\nContact: Gilles Dufrénot : gilles.dufrenot[at]sciencespo
 -aix.frKiyotaka Sato : sato[at]ynu.ac.jp\n\nPlus d'informations: https://w
 ww.amse-aixmarseille.fr/fr/evenements/benjamin-keddad-1
URL;VALUE=URI:https://www.amse-aixmarseille.fr/fr/evenements/benjamin-keddad-1
CONTACT:Gilles Dufrénot : gilles.dufrenot[at]sciencespo-aix.frKiyotaka Sat
 o :&nbsp\;sato[at]ynu.ac.jp
TRANSP:OPAQUE
END:VEVENT
END:VCALENDAR
