BEGIN:VCALENDAR
VERSION:2.0
PRODID:-//AMSE//Event Calendar//FR
CALSCALE:GREGORIAN
METHOD:PUBLISH
BEGIN:VEVENT
UID:event-10641@www.amse-aixmarseille.fr
DTSTAMP:20260421T114731Z
CREATED:20260421T114731Z
LAST-MODIFIED:20260421T114731Z
STATUS:CONFIRMED
SEQUENCE:0
SUMMARY:soutenances de thèse - Mathias Silva Vazquez
DTSTART:20231218T130000Z
DTEND:20231218T130000Z
DESCRIPTION:Plus d'informations: https://www.amse-aixmarseille.fr/fr/evenem
 ents/mathias-silva-vazquez-3
LOCATION:Îlot Bernard du Bois - Amphithéâtre\, AMU - AMSE\, 5-9 boulevar
 d Maurice Bourdet\, 13001 Marseille
URL;VALUE=URI:https://www.amse-aixmarseille.fr/fr/evenements/mathias-silva-vazquez-3
TRANSP:OPAQUE
END:VEVENT
END:VCALENDAR
