BEGIN:VCALENDAR
VERSION:2.0
PRODID:-//AMSE//Event Calendar//FR
CALSCALE:GREGORIAN
METHOD:PUBLISH
BEGIN:VEVENT
UID:event-10643@www.amse-aixmarseille.fr
DTSTAMP:20260422T191902Z
CREATED:20260422T191902Z
LAST-MODIFIED:20260422T191902Z
STATUS:CONFIRMED
SEQUENCE:0
SUMMARY:Eco-lunch - Pedro Albuquerque
DTSTART:20231109T113000Z
DTEND:20231109T123000Z
DESCRIPTION:\\n\\nContact: Nathalie Ferrière : nathalie.ferriere[at]scien
 cespo-aix.frFederico Trionfetti : federico.trionfetti[at]univ-amu.fr\n\nPl
 us d'informations: https://www.amse-aixmarseille.fr/fr/evenements/pedro-alb
 uquerque-1
LOCATION:MEGA - Salle Carine Nourry\, 424\, Chemin du Viaduc\, 13080 Aix-en
 -Provence
URL;VALUE=URI:https://www.amse-aixmarseille.fr/fr/evenements/pedro-albuquerque-1
CONTACT:Nathalie Ferrière :&nbsp\;nathalie.ferriere[at]sciencespo-aix.frFe
 derico Trionfetti :&nbsp\;federico.trionfetti[at]univ-amu.fr
TRANSP:OPAQUE
END:VEVENT
END:VCALENDAR
