BEGIN:VCALENDAR
VERSION:2.0
PRODID:-//AMSE//Event Calendar//FR
CALSCALE:GREGORIAN
METHOD:PUBLISH
BEGIN:VEVENT
UID:event-10683@www.amse-aixmarseille.fr
DTSTAMP:20260422T151518Z
CREATED:20260422T151518Z
LAST-MODIFIED:20260422T151518Z
STATUS:CONFIRMED
SEQUENCE:0
SUMMARY:conférences/workshops - French/Japanese Conference on Asian and In
 ternational Economies in an Era of Globalization
DTSTART:20240920T070000Z
DTEND:20240921T150000Z
DESCRIPTION:\\n\\nContact: fjc[at]amse-aixmarseille.fr\n\nPlus d'informatio
 ns: https://www.amse-aixmarseille.fr/fr/evenements/frenchjapanese-conferenc
 e-asian-and-international-economies-era-globalization
URL;VALUE=URI:https://www.amse-aixmarseille.fr/fr/evenements/frenchjapanese-conference-asian-and-international-economies-era-globalization
CONTACT:fjc[at]amse-aixmarseille.fr
TRANSP:OPAQUE
END:VEVENT
END:VCALENDAR
