BEGIN:VCALENDAR
VERSION:2.0
PRODID:-//AMSE//Event Calendar//FR
CALSCALE:GREGORIAN
METHOD:PUBLISH
BEGIN:VEVENT
UID:event-10712@www.amse-aixmarseille.fr
DTSTAMP:20260422T145919Z
CREATED:20260422T145919Z
LAST-MODIFIED:20260422T145919Z
STATUS:CONFIRMED
SEQUENCE:0
SUMMARY:conférences/workshops - Conférence internationale en économie du
  développement
DTSTART:20240702T070000Z
DTEND:20240703T160000Z
DESCRIPTION:\\n\\nContact: icde[at]amse-aixmarseille.fr\n\nPlus d'informati
 ons: https://www.amse-aixmarseille.fr/fr/evenements/conf%C3%A9rence-interna
 tionale-en-%C3%A9conomie-du-d%C3%A9veloppement
URL;VALUE=URI:https://www.amse-aixmarseille.fr/fr/evenements/conf%C3%A9rence-internationale-en-%C3%A9conomie-du-d%C3%A9veloppement
CONTACT:icde[at]amse-aixmarseille.fr
TRANSP:OPAQUE
END:VEVENT
END:VCALENDAR
