BEGIN:VCALENDAR
VERSION:2.0
PRODID:-//AMSE//Event Calendar//FR
CALSCALE:GREGORIAN
METHOD:PUBLISH
BEGIN:VEVENT
UID:event-10721@www.amse-aixmarseille.fr
DTSTAMP:20260421T151422Z
CREATED:20260421T151422Z
LAST-MODIFIED:20260421T151422Z
STATUS:CONFIRMED
SEQUENCE:0
SUMMARY:conférences/workshops - 2024 Conference in Applied Econometrics us
 ing Stata\, France
DTSTART:20240523T070000Z
DTEND:20240524T160000Z
DESCRIPTION:\\n\\nContact: statafrance[at]amse-aixmarseille.fr\n\nPlus d'in
 formations: https://www.amse-aixmarseille.fr/fr/evenements/2024-conference-
 applied-econometrics-using-stata-france
LOCATION:Îlot Bernard du Bois
URL;VALUE=URI:https://www.amse-aixmarseille.fr/fr/evenements/2024-conference-applied-econometrics-using-stata-france
CONTACT:statafrance[at]amse-aixmarseille.fr
TRANSP:OPAQUE
END:VEVENT
END:VCALENDAR
