BEGIN:VCALENDAR
VERSION:2.0
PRODID:-//AMSE//Event Calendar//FR
CALSCALE:GREGORIAN
METHOD:PUBLISH
BEGIN:VEVENT
UID:event-10723@www.amse-aixmarseille.fr
DTSTAMP:20260422T045535Z
CREATED:20260422T045535Z
LAST-MODIFIED:20260422T045535Z
STATUS:CONFIRMED
SEQUENCE:0
SUMMARY:conférences/workshops - Iméra-AMSE Workshop on Gender Inequalitie
 s
DTSTART:20240123T130000Z
DTEND:20240123T173000Z
DESCRIPTION:\\n\\nContact: Cecilia García-Peñalosa : cecilia.garcia-pena
 losa[at]univ-amu.fr\n\nPlus d'informations: https://www.amse-aixmarseille.f
 r/fr/evenements/im%C3%A9ra-amse-workshop-gender-inequalities
LOCATION:Îlot Bernard du Bois - Amphithéâtre\, AMU - AMSE\, 5-9 boulevar
 d Maurice Bourdet\, 13001 Marseille
URL;VALUE=URI:https://www.amse-aixmarseille.fr/fr/evenements/im%C3%A9ra-amse-workshop-gender-inequalities
CONTACT:Cecilia García-Peñalosa :&nbsp\;cecilia.garcia-penalosa[at]univ-a
 mu.fr
TRANSP:OPAQUE
END:VEVENT
END:VCALENDAR
