BEGIN:VCALENDAR
VERSION:2.0
PRODID:-//AMSE//Event Calendar//FR
CALSCALE:GREGORIAN
METHOD:PUBLISH
BEGIN:VEVENT
UID:event-10741@www.amse-aixmarseille.fr
DTSTAMP:20260422T013237Z
CREATED:20260422T013237Z
LAST-MODIFIED:20260422T013237Z
STATUS:CONFIRMED
SEQUENCE:0
SUMMARY:Economic theory seminar - Lucas Pahl
DTSTART:20231222T110000Z
DTEND:20231222T120000Z
DESCRIPTION:We prove the 2-player\, generic extensive-form case of the conj
 ecture of Govindan and Wilson (1997a\,b) and Hauk and Hurkens (2002) statin
 g that an equilibrium component is essential in every equivalent game if an
 d only if the index of the component is nonzero. This provides an index-the
 oretic characterization of the concept of hyperstable components of equilib
 ria in generic extensive-form games\, first formulated by Kohlberg and Mert
 ens (1986).\\n\\nContact: Gaëtan Fournier : gaetan.fournier[at]univ-amu.fr
 \n\nPlus d'informations: https://www.amse-aixmarseille.fr/fr/evenements/luc
 as-pahl
LOCATION:Îlot Bernard du Bois - Salle 15\, AMU - AMSE\, 5-9 boulevard Maur
 ice Bourdet\, 13001 Marseille
URL;VALUE=URI:https://www.amse-aixmarseille.fr/fr/evenements/lucas-pahl
CONTACT:Gaëtan Fournier : gaetan.fournier[at]univ-amu.fr
TRANSP:OPAQUE
END:VEVENT
END:VCALENDAR
