BEGIN:VCALENDAR
VERSION:2.0
PRODID:-//AMSE//Event Calendar//FR
CALSCALE:GREGORIAN
METHOD:PUBLISH
BEGIN:VEVENT
UID:event-10768@www.amse-aixmarseille.fr
DTSTAMP:20260421T230509Z
CREATED:20260421T230509Z
LAST-MODIFIED:20260421T230509Z
STATUS:CONFIRMED
SEQUENCE:0
SUMMARY:phd seminar - Simon Rebeyrolles*\, Nathan Vieira**
DTSTART:20240326T100000Z
DTEND:20240326T111500Z
DESCRIPTION:*This article aims at evaluating the effect of a Social Housing
  allocation on tenants’ trajectories in France. Using a unique and novel 
 linkage of administrative data about social housing requestors and tax decl
 arations\, I will try to match assigned and non-assigned individuals with s
 imilar characteristics in a propensity score matching framework and compare
  their outcomes’ evolutions (incomes\, activity status\, location …) fo
 r 5 years.**This paper proposes an optimal short-time work policy for reces
 sions such as the Great Recession or the COVID-19 recession. I model an eco
 nomy in which firms and workers are unable to modify the labor contract dur
 ing recessions and investigate how a short-time work policy can improve the
  situation. I include a firm's financial constraint\, a distortionary labor
  tax\, a firm-specific skill accumulation mechanism\, and a government budg
 et constraint. I find that the classical policy of reducing the cost of sho
 rt-time work for firms to 0 and facilitating access to the short-time work 
 program is not optimal. First\, short-time work programs need to be coupled
  with an hours subsidy and access to loans. Second\, the cost of short-time
  work should be higher than 0 and continuously adjusted according to the se
 verity of the recession. Third\, short-time work programs should be an expe
 rience rating program to ensure their sustainability.\\n\\nContact: Lucie G
 iorgi : lucie.giorgi[at]univ-amu.frRicardo Guzman : ricardo.guzman[at]univ-
 amu.frNatalia Labrador : natalia.labrador-bernate[at]univ-amu.frNathan Vie
 ira : nathan.vieira[at]univ-amu.fr\n\nPlus d'informations: https://www.amse
 -aixmarseille.fr/fr/evenements/simon-rebeyrolles-nathan-vieira
LOCATION:Îlot Bernard du Bois - Amphithéâtre\, AMU - AMSE\, 5-9 boulevar
 d Maurice Bourdet\, 13001 Marseille
URL;VALUE=URI:https://www.amse-aixmarseille.fr/fr/evenements/simon-rebeyrolles-nathan-vieira
CONTACT:Lucie Giorgi : lucie.giorgi[at]univ-amu.frRicardo Guzman : ricardo.
 guzman[at]univ-amu.frNatalia Labrador :&nbsp\;natalia.labrador-bernate[at]u
 niv-amu.frNathan Vieira : nathan.vieira[at]univ-amu.fr
TRANSP:OPAQUE
END:VEVENT
END:VCALENDAR
