BEGIN:VCALENDAR
VERSION:2.0
PRODID:-//AMSE//Event Calendar//FR
CALSCALE:GREGORIAN
METHOD:PUBLISH
BEGIN:VEVENT
UID:event-10804@www.amse-aixmarseille.fr
DTSTAMP:20260422T015048Z
CREATED:20260422T015048Z
LAST-MODIFIED:20260422T015048Z
STATUS:CONFIRMED
SEQUENCE:0
SUMMARY:finance seminar - Ivana Vitanova
DTSTART:20240213T093000Z
DTEND:20240213T110000Z
DESCRIPTION:We examine how an entrepreneur-expressed humility affects early
 -stage investors’ willingness to fund a new venture. While leader humili
 ty has been shown to yield positive outcomes inside organizations\, little 
 is known about its effect on perceptions and behaviors of external resource
  providers\, particularly in early-stage funding contexts. Drawing upon so
 cial exchange theory\, we propose and test a dual path moderated mediation 
 model that posits that entrepreneur-expressed humility positively affects i
 nvestors’ willingness to fund. The findings of a randomized field experi
 ment show that early-stage investors sense stronger interpersonal affect an
 d trust and perceive higher team-building qualities for humble entrepreneur
 s relatively to non-humble entrepreneurs and these inferences explain thei
 r higher willingness to fund ventures led by humble entrepreneurs. This stu
 dy extends knowledge on which aspects of entrepreneurial personality favor 
 resource acquisition in early-stage ventures and contributes to the growin
 g literature on the effect of leader humility on organizational performance
 .\\n\\nContact: Eric Girardin : eric.girardin[at]univ-amu.frGaël Leboeuf :
  gael.leboeuf[at]univ-amu.frChristelle Lecourt : christelle.lecourt[at]univ
 -amu.fr\n\nPlus d'informations: https://www.amse-aixmarseille.fr/fr/eveneme
 nts/ivana-vitanova
LOCATION:MEGA
URL;VALUE=URI:https://www.amse-aixmarseille.fr/fr/evenements/ivana-vitanova
CONTACT:Eric Girardin : eric.girardin[at]univ-amu.frGaël Leboeuf : gael.le
 boeuf[at]univ-amu.frChristelle Lecourt : christelle.lecourt[at]univ-amu.fr
TRANSP:OPAQUE
END:VEVENT
END:VCALENDAR
