BEGIN:VCALENDAR
VERSION:2.0
PRODID:-//AMSE//Event Calendar//FR
CALSCALE:GREGORIAN
METHOD:PUBLISH
BEGIN:VEVENT
UID:event-10815@www.amse-aixmarseille.fr
DTSTAMP:20260421T122127Z
CREATED:20260421T122127Z
LAST-MODIFIED:20260421T122127Z
STATUS:CONFIRMED
SEQUENCE:0
SUMMARY:conférences/workshops - 2024 Mediterranean Game Theory Symposium
DTSTART:20240528T070000Z
DTEND:20240531T150000Z
DESCRIPTION:\\n\\nContact: mgts[at]amse-aixmarseille.fr\n\nPlus d'informati
 ons: https://www.amse-aixmarseille.fr/fr/evenements/2024-mediterranean-game
 -theory-symposium
LOCATION:Îlot Bernard du Bois
URL;VALUE=URI:https://www.amse-aixmarseille.fr/fr/evenements/2024-mediterranean-game-theory-symposium
CONTACT:mgts[at]amse-aixmarseille.fr
TRANSP:OPAQUE
END:VEVENT
END:VCALENDAR
