BEGIN:VCALENDAR
VERSION:2.0
PRODID:-//AMSE//Event Calendar//FR
CALSCALE:GREGORIAN
METHOD:PUBLISH
BEGIN:VEVENT
UID:event-10829@www.amse-aixmarseille.fr
DTSTAMP:20260421T153716Z
CREATED:20260421T153716Z
LAST-MODIFIED:20260421T153716Z
STATUS:CONFIRMED
SEQUENCE:0
SUMMARY:conférences/workshops - WASH Economics Conference 2024
DTSTART:20240521T070000Z
DTEND:20240522T150000Z
DESCRIPTION:\\n\\nContact: washeconomics[at]amse-aixmarseille.fr\n\nPlus d'
 informations: https://www.amse-aixmarseille.fr/fr/evenements/wash-economics
 -conference-2024
LOCATION:Îlot Bernard du Bois
URL;VALUE=URI:https://www.amse-aixmarseille.fr/fr/evenements/wash-economics-conference-2024
CONTACT:washeconomics[at]amse-aixmarseille.fr
TRANSP:OPAQUE
END:VEVENT
END:VCALENDAR
