BEGIN:VCALENDAR
VERSION:2.0
PRODID:-//AMSE//Event Calendar//FR
CALSCALE:GREGORIAN
METHOD:PUBLISH
BEGIN:VEVENT
UID:event-10858@www.amse-aixmarseille.fr
DTSTAMP:20260422T004727Z
CREATED:20260422T004727Z
LAST-MODIFIED:20260422T004727Z
STATUS:CONFIRMED
SEQUENCE:0
SUMMARY:finance seminar - David Cobham 
DTSTART:20240305T093000Z
DTEND:20240305T110000Z
DESCRIPTION:The Comprehensive Monetary Policy Framework (CMPF) project\, wh
 ich considers de jure and de facto\, domestic (money\, inflation) and exter
 nal (exchange rate)\, monetary policy targets\, has now classified 186 coun
 tries/currency areas from 1974 to 2017. This means that it is now possible 
 to track the evolution of monetary policy frameworks across the world and i
 ts regions. This paper outlines the methodology of the classification and a
 nalyses the trends at global\, regional and sub-regional levels.\\n\\nConta
 ct: Eric Girardin : eric.girardin[at]univ-amu.frGaël Leboeuf : gael.leboeu
 f[at]univ-amu.frChristelle Lecourt : christelle.lecourt[at]univ-amu.fr\n\nP
 lus d'informations: https://www.amse-aixmarseille.fr/fr/evenements/david-co
 bham
LOCATION:MEGA - Salle de réunion 236 Cézanne\, 424\, Chemin du Viaduc\, 1
 3080 Aix-en-Provence
URL;VALUE=URI:https://www.amse-aixmarseille.fr/fr/evenements/david-cobham
CONTACT:Eric Girardin : eric.girardin[at]univ-amu.frGaël Leboeuf : gael.le
 boeuf[at]univ-amu.frChristelle Lecourt : christelle.lecourt[at]univ-amu.fr
TRANSP:OPAQUE
END:VEVENT
END:VCALENDAR
