BEGIN:VCALENDAR
VERSION:2.0
PRODID:-//AMSE//Event Calendar//FR
CALSCALE:GREGORIAN
METHOD:PUBLISH
BEGIN:VEVENT
UID:event-10900@www.amse-aixmarseille.fr
DTSTAMP:20260421T230545Z
CREATED:20260421T230545Z
LAST-MODIFIED:20260421T230545Z
STATUS:CONFIRMED
SEQUENCE:0
SUMMARY:conférences/workshops - Adaptation des médecins généralistes de
  ville face aux évolutions de l’offre et de la demande de soins
DTSTART:20240321T083000Z
DTEND:20240321T160000Z
DESCRIPTION:Plus d'informations: https://www.amse-aixmarseille.fr/fr/evenem
 ents/adaptation-des-m%C3%A9decins-g%C3%A9n%C3%A9ralistes-de-ville-face-aux-
 %C3%A9volutions-de-l%E2%80%99offre-et-de-la
LOCATION:Îlot Bernard du Bois
URL;VALUE=URI:https://www.amse-aixmarseille.fr/fr/evenements/adaptation-des-m%C3%A9decins-g%C3%A9n%C3%A9ralistes-de-ville-face-aux-%C3%A9volutions-de-l%E2%80%99offre-et-de-la
TRANSP:OPAQUE
END:VEVENT
END:VCALENDAR
