BEGIN:VCALENDAR
VERSION:2.0
PRODID:-//AMSE//Event Calendar//FR
CALSCALE:GREGORIAN
METHOD:PUBLISH
BEGIN:VEVENT
UID:event-10963@www.amse-aixmarseille.fr
DTSTAMP:20260422T002415Z
CREATED:20260422T002415Z
LAST-MODIFIED:20260422T002415Z
STATUS:CONFIRMED
SEQUENCE:0
SUMMARY:Inter-eval seminar - Roland Rizoulières
DTSTART:20240223T100000Z
DTEND:20240223T113000Z
DESCRIPTION:\\n\\nContact: Alice Fabre : alice.fabre[at]univ-amu.fr\n\nPlus
  d'informations: https://www.amse-aixmarseille.fr/fr/evenements/roland-rizo
 uli%C3%A8res-1
LOCATION:MEGA
URL;VALUE=URI:https://www.amse-aixmarseille.fr/fr/evenements/roland-rizouli%C3%A8res-1
CONTACT:Alice Fabre : alice.fabre[at]univ-amu.fr
TRANSP:OPAQUE
END:VEVENT
END:VCALENDAR
