BEGIN:VCALENDAR
VERSION:2.0
PRODID:-//AMSE//Event Calendar//FR
CALSCALE:GREGORIAN
METHOD:PUBLISH
BEGIN:VEVENT
UID:event-11000@www.amse-aixmarseille.fr
DTSTAMP:20260422T002415Z
CREATED:20260422T002415Z
LAST-MODIFIED:20260422T002415Z
STATUS:CONFIRMED
SEQUENCE:0
SUMMARY:economic philosophy seminar - Tarik Tazdait
DTSTART:20240311T150000Z
DTEND:20240311T170000Z
DESCRIPTION:\\n\\nContact: Feriel Kandil : feriel.kandil[at]univ-amu.frMir
 iam Teschl : miriam.teschl[at]ehess.fr\n\nPlus d'informations: https://www
 .amse-aixmarseille.fr/fr/evenements/tarik-tazdait
LOCATION:Îlot Bernard du Bois - Salle 15\, AMU - AMSE\, 5-9 boulevard Maur
 ice Bourdet\, 13001 Marseille
URL;VALUE=URI:https://www.amse-aixmarseille.fr/fr/evenements/tarik-tazdait
CONTACT:Feriel Kandil :&nbsp\;feriel.kandil[at]univ-amu.frMiriam Teschl :&n
 bsp\;miriam.teschl[at]ehess.fr
TRANSP:OPAQUE
END:VEVENT
END:VCALENDAR
