BEGIN:VCALENDAR
VERSION:2.0
PRODID:-//AMSE//Event Calendar//FR
CALSCALE:GREGORIAN
METHOD:PUBLISH
BEGIN:VEVENT
UID:event-11002@www.amse-aixmarseille.fr
DTSTAMP:20260421T214111Z
CREATED:20260421T214111Z
LAST-MODIFIED:20260421T214111Z
STATUS:CONFIRMED
SEQUENCE:0
SUMMARY:economic philosophy seminar - Wolfram Schultz*\, Michiru Nagatsu**
DTSTART:20240325T150000Z
DTEND:20240325T180000Z
DESCRIPTION:**In this talk I will analyse debates on economic growth vs. th
 e environment from the perspective of philosophy of science\, in particular
  drawing on the recent discussions on how epistemic and non-epistemic value
 s interact in evidential reasoning. I identify two kinds of deep uncertaint
 y about the social-ecological systems\, one concerning the Hothouse Earth p
 athway\, and the other concerning non-capitalist societal pathway. Proponen
 ts and critics of economic growth responds to these kinds of uncertainty di
 fferently. I then explore to what extent such disagreements can be reduced 
 by philosophical interventions.\\n\\nContact: Feriel Kandil : feriel.kandi
 l[at]univ-amu.frMiriam Teschl : miriam.teschl[at]ehess.fr\n\nPlus d'inform
 ations: https://www.amse-aixmarseille.fr/fr/evenements/wolfram-schultz-mich
 iru-nagatsu
LOCATION:Îlot Bernard du Bois - Salle 16\, AMU - AMSE\, 5-9 boulevard Maur
 ice Bourdet\, 13001 Marseille
URL;VALUE=URI:https://www.amse-aixmarseille.fr/fr/evenements/wolfram-schultz-michiru-nagatsu
CONTACT:Feriel Kandil :&nbsp\;feriel.kandil[at]univ-amu.frMiriam Teschl :&n
 bsp\;miriam.teschl[at]ehess.fr
TRANSP:OPAQUE
END:VEVENT
END:VCALENDAR
