BEGIN:VCALENDAR
VERSION:2.0
PRODID:-//AMSE//Event Calendar//FR
CALSCALE:GREGORIAN
METHOD:PUBLISH
BEGIN:VEVENT
UID:event-11008@www.amse-aixmarseille.fr
DTSTAMP:20260421T230546Z
CREATED:20260421T230546Z
LAST-MODIFIED:20260421T230546Z
STATUS:CONFIRMED
SEQUENCE:0
SUMMARY:amse seminar - Vincent Somville
DTSTART:20240327T103000Z
DTEND:20240327T114500Z
DESCRIPTION:We randomly offered a childcare subsidy\, an equivalent cash gr
 ant\, or both to mothers of three-to-five-year-old children. The childcare 
 subsidy substantially increased labor supply and earnings of single mothers
 \, highlighting the importance of time constraints for them. Among couples\
 , childcare did not affect mothers’ labor market outcomes but instead inc
 reased fathers’ salaried employment. At the household level\, childcare l
 ed to higher income\, consumption and improved child development. Cash gran
 ts positively affected mothers’ labor supply and income irrespective of t
 he household structure\, suggesting the general importance of credit constr
 aints for women’s business development.\\n\\nContact: Cecilia Garcia Peñ
 alosa : cecilia.garcia-penalosa[at]univ-amu.fr\n\nPlus d'informations: htt
 ps://www.amse-aixmarseille.fr/fr/evenements/vincent-somville-1
LOCATION:Îlot Bernard du Bois - Salle 21\, AMU - AMSE\, 5-9 boulevard Maur
 ice Bourdet\, 13001 Marseille
URL;VALUE=URI:https://www.amse-aixmarseille.fr/fr/evenements/vincent-somville-1
CONTACT:Cecilia Garcia Peñalosa :&nbsp\;cecilia.garcia-penalosa[at]univ-am
 u.fr
TRANSP:OPAQUE
END:VEVENT
END:VCALENDAR
