BEGIN:VCALENDAR
VERSION:2.0
PRODID:-//AMSE//Event Calendar//FR
CALSCALE:GREGORIAN
METHOD:PUBLISH
BEGIN:VEVENT
UID:event-11022@www.amse-aixmarseille.fr
DTSTAMP:20260421T230510Z
CREATED:20260421T230510Z
LAST-MODIFIED:20260421T230510Z
STATUS:CONFIRMED
SEQUENCE:0
SUMMARY:amse seminar - Clémentine Van Effenterre
DTSTART:20240314T133000Z
DTEND:20240314T143000Z
DESCRIPTION:\\n\\nContact: Cecilia Garcia Peñalosa : cecilia.garcia-penal
 osa[at]univ-amu.fr\n\nPlus d'informations: https://www.amse-aixmarseille.fr
 /fr/evenements/cl%C3%A9mentine-van-effenterre-0
URL;VALUE=URI:https://www.amse-aixmarseille.fr/fr/evenements/cl%C3%A9mentine-van-effenterre-0
CONTACT:Cecilia Garcia Peñalosa :&nbsp\;cecilia.garcia-penalosa[at]univ-am
 u.fr
TRANSP:OPAQUE
END:VEVENT
END:VCALENDAR
