BEGIN:VCALENDAR
VERSION:2.0
PRODID:-//AMSE//Event Calendar//FR
CALSCALE:GREGORIAN
METHOD:PUBLISH
BEGIN:VEVENT
UID:event-11027@www.amse-aixmarseille.fr
DTSTAMP:20260421T203530Z
CREATED:20260421T203530Z
LAST-MODIFIED:20260421T203530Z
STATUS:CONFIRMED
SEQUENCE:0
SUMMARY:conférences/workshops - Postdoc interview day
DTSTART:20240405T070000Z
DTEND:20240405T150000Z
DESCRIPTION:\\n\\nContact: Agnès Tomini : agnes.tomini[at]univ-amu.fr\n\nP
 lus d'informations: https://www.amse-aixmarseille.fr/fr/evenements/postdoc-
 interview-day
LOCATION:Îlot Bernard du Bois - Amphithéâtre\, AMU - AMSE\, 5-9 boulevar
 d Maurice Bourdet\, 13001 Marseille
URL;VALUE=URI:https://www.amse-aixmarseille.fr/fr/evenements/postdoc-interview-day
CONTACT:Agnès Tomini : agnes.tomini[at]univ-amu.fr
TRANSP:OPAQUE
END:VEVENT
END:VCALENDAR
