BEGIN:VCALENDAR
VERSION:2.0
PRODID:-//AMSE//Event Calendar//FR
CALSCALE:GREGORIAN
METHOD:PUBLISH
BEGIN:VEVENT
UID:event-11060@www.amse-aixmarseille.fr
DTSTAMP:20260421T200504Z
CREATED:20260421T200504Z
LAST-MODIFIED:20260421T200504Z
STATUS:CONFIRMED
SEQUENCE:0
SUMMARY:conférences/workshops - Données personnelles dans les projets de 
 recherche : réglementation\, protection\, gestion
DTSTART:20240404T130000Z
DTEND:20240404T150000Z
DESCRIPTION:\\n\\nContact: Laurence Bouvard : laurence.bouvard[at]univ-amu.
 fr\n\nPlus d'informations: https://www.amse-aixmarseille.fr/fr/evenements/d
 onn%C3%A9es-personnelles-dans-les-projets-de-recherche-r%C3%A9glementation-
 protection-gestion
LOCATION:Îlot Bernard du Bois - Salle 2-32\, AMU - AMSE\, 5-9 boulevard Ma
 urice Bourdet\, 13001 Marseille
URL;VALUE=URI:https://www.amse-aixmarseille.fr/fr/evenements/donn%C3%A9es-personnelles-dans-les-projets-de-recherche-r%C3%A9glementation-protection-gestion
CONTACT:Laurence Bouvard : laurence.bouvard[at]univ-amu.fr
TRANSP:OPAQUE
END:VEVENT
END:VCALENDAR
