BEGIN:VCALENDAR
VERSION:2.0
PRODID:-//AMSE//Event Calendar//FR
CALSCALE:GREGORIAN
METHOD:PUBLISH
BEGIN:VEVENT
UID:event-11084@www.amse-aixmarseille.fr
DTSTAMP:20260421T184016Z
CREATED:20260421T184016Z
LAST-MODIFIED:20260421T184016Z
STATUS:CONFIRMED
SEQUENCE:0
SUMMARY:conférences/workshops - Seminar European economic integration
DTSTART:20240418T111500Z
DTEND:20240419T123000Z
DESCRIPTION:\\n\\nContact: Céline Poilly : celine.poilly[at]univ-amu.fr\n\
 nPlus d'informations: https://www.amse-aixmarseille.fr/fr/evenements/semina
 r-european-economic-integration
LOCATION:Îlot Bernard du Bois - Salle 15\, AMU - AMSE\, 5-9 boulevard Maur
 ice Bourdet\, 13001 Marseille
URL;VALUE=URI:https://www.amse-aixmarseille.fr/fr/evenements/seminar-european-economic-integration
CONTACT:Céline Poilly : celine.poilly[at]univ-amu.fr
TRANSP:OPAQUE
END:VEVENT
END:VCALENDAR
