BEGIN:VCALENDAR
VERSION:2.0
PRODID:-//AMSE//Event Calendar//FR
CALSCALE:GREGORIAN
METHOD:PUBLISH
BEGIN:VEVENT
UID:event-11149@www.amse-aixmarseille.fr
DTSTAMP:20260422T133540Z
CREATED:20260422T133540Z
LAST-MODIFIED:20260422T133540Z
STATUS:CONFIRMED
SEQUENCE:0
SUMMARY:Economic theory seminar - Chew Soo Hong\, Zhang Xinhan
DTSTART:20240614T100000Z
DTEND:20240614T110000Z
DESCRIPTION:Building on the emerging literature on correlation preference r
 eflecting regret and salience considerations\, we offer an axiomatization o
 f correlation utility (CU) without requiring transitivity or completeness. 
 Under a correlation independence axiom\, CU specializes to correlation expe
 cted utility (CEU) which is not compatible with behavior in the correlated 
 Allais common-consequence problem. This motivates our correlation betweenne
 ss axiom and characterization of the corresponding correlation betweenness 
 utility (CBU). We investigate the implications of an absence of correlation
  sensitivity as well as (in)completeness for CEU and CBU. Under correlation
  insensitivity\, we demonstrate using the Kantorovich duality that CEU redu
 ces to EU while CBU reduces to a skew-symmetric bilinear utility together w
 ith weakening correlation independence to correlation projective independen
 ce\, reducing further to weighted utility under transitivity. Finally\, we 
 characterize correlation distribution reduction preference\, subsuming two 
 major generalizations of SEU: one maintains Savage’s Postulate 2 without 
 transitivity (Fishburn\, 1989)\; the other maintains transitivity without P
 ostulate 2 (Machina and Schmeidler\, 1992).\\n\\nContact: Gaëtan Fournier 
 : gaetan.fournier[at]univ-amu.fr\n\nPlus d'informations: https://www.amse-a
 ixmarseille.fr/fr/evenements/chew-soo-hong-zhang-xinhan
LOCATION:Îlot Bernard du Bois - Salle 24\, AMU - AMSE\, 5-9 boulevard Maur
 ice Bourdet\, 13001 Marseille
URL;VALUE=URI:https://www.amse-aixmarseille.fr/fr/evenements/chew-soo-hong-zhang-xinhan
CONTACT:Gaëtan Fournier : gaetan.fournier[at]univ-amu.fr
TRANSP:OPAQUE
END:VEVENT
END:VCALENDAR
